BEGIN:VCALENDAR
VERSION:2.0
PRODID:-//hacksw/handcal//NONSGML v1.0//EN
CALSCALE:GREGORIAN
BEGIN:VEVENT
SUMMARY:Nürnberg
DTSTART:20260503T153000Z
DTEND:20260503T182800Z
GEO:51.03911;13.80653
LOCATION:Programmkino Ost\, Schandauer Straße 73\, 01277 Dresden-Striesen
DESCRIPTION:
URL;VALUE=URI:http://www.umland.kika-dresden.de/termin1599662.html
DTSTAMP:20260425T144055Z
UID:69ecd2777a207
END:VEVENT
END:VCALENDAR