BEGIN:VCALENDAR
VERSION:2.0
PRODID:-//hacksw/handcal//NONSGML v1.0//EN
CALSCALE:GREGORIAN
BEGIN:VEVENT
SUMMARY:Wise Women
DTSTART:20260505T173000Z
DTEND:20260505T192800Z
GEO:51.03911;13.80653
LOCATION:Programmkino Ost\, Schandauer Straße 73\, 01277 Dresden-Striesen
DESCRIPTION:
URL;VALUE=URI:http://www.umland.kika-dresden.de/termin1599665.html
DTSTAMP:20260424T182631Z
UID:69ebb5d7e8e36
END:VEVENT
END:VCALENDAR