BEGIN:VCALENDAR
VERSION:2.0
PRODID:-//hacksw/handcal//NONSGML v1.0//EN
CALSCALE:GREGORIAN
BEGIN:VEVENT
SUMMARY:Hamnet
DTSTART:20260506T080000Z
DTEND:20260506T103500Z
GEO:51.03911;13.80653
LOCATION:Programmkino Ost\, Schandauer Straße 73\, 01277 Dresden-Striesen
DESCRIPTION:
URL;VALUE=URI:http://www.umland.kika-dresden.de/termin1599668.html
DTSTAMP:20260426T003711Z
UID:69ed5e37c9656
END:VEVENT
END:VCALENDAR