BEGIN:VCALENDAR
VERSION:2.0
PRODID:-//hacksw/handcal//NONSGML v1.0//EN
CALSCALE:GREGORIAN
BEGIN:VEVENT
SUMMARY:Beating Hearts
DTSTART:20260513T150000Z
DTEND:20260513T181000Z
GEO:51.03911;13.80653
LOCATION:Programmkino Ost\, Schandauer Straße 73\, 01277 Dresden-Striesen
DESCRIPTION:
URL;VALUE=URI:http://www.umland.kika-dresden.de/termin1599673.html
DTSTAMP:20260422T195651Z
UID:69e928030bc98
END:VEVENT
END:VCALENDAR