BEGIN:VCALENDAR
VERSION:2.0
PRODID:-//hacksw/handcal//NONSGML v1.0//EN
CALSCALE:GREGORIAN
BEGIN:VEVENT
SUMMARY:Es sind die kleinen Dinge
DTSTART:20260509T140000Z
DTEND:20260509T160000Z
GEO:51.03911;13.80653
LOCATION:Programmkino Ost\, Schandauer Straße 73\, 01277 Dresden-Striesen
DESCRIPTION:
URL;VALUE=URI:http://www.umland.kika-dresden.de/termin1599685.html
DTSTAMP:20260422T171105Z
UID:69e90129a9260
END:VEVENT
END:VCALENDAR