BEGIN:VCALENDAR
VERSION:2.0
PRODID:-//hacksw/handcal//NONSGML v1.0//EN
CALSCALE:GREGORIAN
BEGIN:VEVENT
SUMMARY:Tatis herrliche Zeiten
DTSTART:20260513T123000Z
DTEND:20260513T150400Z
GEO:51.03911;13.80653
LOCATION:Programmkino Ost\, Schandauer Straße 73\, 01277 Dresden-Striesen
DESCRIPTION:
URL;VALUE=URI:http://www.umland.kika-dresden.de/termin1599701.html
DTSTAMP:20260424T192958Z
UID:69ebc4b68c12d
END:VEVENT
END:VCALENDAR