BEGIN:VCALENDAR
VERSION:2.0
PRODID:-//hacksw/handcal//NONSGML v1.0//EN
CALSCALE:GREGORIAN
BEGIN:VEVENT
SUMMARY:Bluey im Kino: "Playdates" - Kollektion
DTSTART:20260426T094000Z
GEO:51.08285;13.69562
LOCATION:UCI-Kinowelt\, Lommatzscher Straße 82\, Elbepark\, 01139 Dresden-Mickten
DESCRIPTION:
URL;VALUE=URI:http://www.umland.kika-dresden.de/termin1599743.html
DTSTAMP:20260424T033243Z
UID:69eae45b37c49
END:VEVENT
END:VCALENDAR