BEGIN:VCALENDAR
VERSION:2.0
PRODID:-//hacksw/handcal//NONSGML v1.0//EN
CALSCALE:GREGORIAN
BEGIN:VEVENT
SUMMARY:How to Make a Killing: Todsicheres Erbe
DTSTART:20260424T181000Z
DTEND:20260424T202500Z
GEO:51.08285;13.69562
LOCATION:UCI-Kinowelt\, Lommatzscher Straße 82\, Elbepark\, 01139 Dresden-Mickten
DESCRIPTION:
URL;VALUE=URI:http://www.umland.kika-dresden.de/termin1599899.html
DTSTAMP:20260425T195225Z
UID:69ed1b7994503
END:VEVENT
END:VCALENDAR