BEGIN:VCALENDAR
VERSION:2.0
PRODID:-//hacksw/handcal//NONSGML v1.0//EN
CALSCALE:GREGORIAN
BEGIN:VEVENT
SUMMARY:Michael
DTSTART:20260426T143000Z
DTEND:20260426T171000Z
GEO:51.04487;13.73697
LOCATION:Rundkino Dresden\, Prager Straße 6\, 01069 Dresden
DESCRIPTION:
URL;VALUE=URI:http://www.umland.kika-dresden.de/termin1600031.html
DTSTAMP:20260425T101938Z
UID:69ec953a966e5
END:VEVENT
END:VCALENDAR