BEGIN:VCALENDAR
VERSION:2.0
PRODID:-//hacksw/handcal//NONSGML v1.0//EN
CALSCALE:GREGORIAN
BEGIN:VEVENT
SUMMARY:Normal
DTSTART:20260426T151500Z
DTEND:20260426T171800Z
GEO:51.04487;13.73697
LOCATION:Rundkino Dresden\, Prager Straße 6\, 01069 Dresden
DESCRIPTION:
URL;VALUE=URI:http://www.umland.kika-dresden.de/termin1600071.html
DTSTAMP:20260423T095155Z
UID:69e9ebbbb9cf5
END:VEVENT
END:VCALENDAR