BEGIN:VCALENDAR
VERSION:2.0
PRODID:-//hacksw/handcal//NONSGML v1.0//EN
CALSCALE:GREGORIAN
BEGIN:VEVENT
SUMMARY:Horst Schlämmer sucht das Glück
DTSTART:20260424T175000Z
DTEND:20260424T200000Z
GEO:51.04487;13.73697
LOCATION:Rundkino Dresden\, Prager Straße 6\, 01069 Dresden
DESCRIPTION:
URL;VALUE=URI:http://www.umland.kika-dresden.de/termin1600121.html
DTSTAMP:20260424T073757Z
UID:69eb1dd583010
END:VEVENT
END:VCALENDAR