BEGIN:VCALENDAR
VERSION:2.0
PRODID:-//hacksw/handcal//NONSGML v1.0//EN
CALSCALE:GREGORIAN
BEGIN:VEVENT
SUMMARY:Tierisch abgefahren - Rettet die Pets
DTSTART:20260429T080000Z
DTEND:20260429T095700Z
GEO:51.04384;13.73755
LOCATION:Cineplex Kristallpalast Dresden\, St. Petersburger Straße 24a\, 01069 Dresden
DESCRIPTION:
URL;VALUE=URI:http://www.umland.kika-dresden.de/termin1600281.html
DTSTAMP:20260426T004849Z
UID:69ed60f175689
END:VEVENT
END:VCALENDAR