BEGIN:VCALENDAR
VERSION:2.0
PRODID:-//hacksw/handcal//NONSGML v1.0//EN
CALSCALE:GREGORIAN
BEGIN:VEVENT
SUMMARY:How To Make A Killing - Todsicheres Erbe
DTSTART:20260422T211500Z
DTEND:20260422T233100Z
GEO:51.07124;13.75051
LOCATION:Filmtheater Schauburg\, Königsbrücker Straße 55\, 01099 Dresden
DESCRIPTION:
URL;VALUE=URI:http://www.umland.kika-dresden.de/termin1600304.html
DTSTAMP:20260426T042507Z
UID:69ed93a38510d
END:VEVENT
END:VCALENDAR