BEGIN:VCALENDAR
VERSION:2.0
PRODID:-//hacksw/handcal//NONSGML v1.0//EN
CALSCALE:GREGORIAN
BEGIN:VEVENT
SUMMARY:Horst Schlämmer sucht das Glück
DTSTART:20260422T084500Z
DTEND:20260422T105500Z
GEO:51.07124;13.75051
LOCATION:Filmtheater Schauburg\, Königsbrücker Straße 55\, 01099 Dresden
DESCRIPTION:
URL;VALUE=URI:http://www.umland.kika-dresden.de/termin1600311.html
DTSTAMP:20260424T061650Z
UID:69eb0ad237970
END:VEVENT
END:VCALENDAR