BEGIN:VCALENDAR
VERSION:2.0
PRODID:-//hacksw/handcal//NONSGML v1.0//EN
CALSCALE:GREGORIAN
BEGIN:VEVENT
SUMMARY:Die Drei ??? - Toteninsel
DTSTART:20260427T130000Z
DTEND:20260427T151400Z
GEO:51.05182;13.80533
LOCATION:CinemaxX\, Hüblerstr. 8\, 01309 Dresden
DESCRIPTION:
URL;VALUE=URI:http://www.umland.kika-dresden.de/termin1600401.html
DTSTAMP:20260424T181308Z
UID:69ebb2b4f07a8
END:VEVENT
END:VCALENDAR