BEGIN:VCALENDAR
VERSION:2.0
PRODID:-//hacksw/handcal//NONSGML v1.0//EN
CALSCALE:GREGORIAN
BEGIN:VEVENT
SUMMARY:Babystar
DTSTART:20260428T180000Z
DTEND:20260428T200800Z
GEO:51.07124;13.75051
LOCATION:Filmtheater Schauburg\, Königsbrücker Straße 55\, 01099 Dresden
DESCRIPTION:Gäste
URL;VALUE=URI:http://www.umland.kika-dresden.de/termin1600707.html
DTSTAMP:20260423T121850Z
UID:69ea0e2a4a949
END:VEVENT
END:VCALENDAR