BEGIN:VCALENDAR
VERSION:2.0
PRODID:-//hacksw/handcal//NONSGML v1.0//EN
CALSCALE:GREGORIAN
BEGIN:VEVENT
SUMMARY:Marty Supreme
DTSTART:20260424T201500Z
DTEND:20260424T231500Z
GEO:51.07124;13.75051
LOCATION:Filmtheater Schauburg\, Königsbrücker Straße 55\, 01099 Dresden
DESCRIPTION:
URL;VALUE=URI:http://www.umland.kika-dresden.de/termin1600742.html
DTSTAMP:20260424T112036Z
UID:69eb5204c59a2
END:VEVENT
END:VCALENDAR