BEGIN:VCALENDAR
VERSION:2.0
PRODID:-//hacksw/handcal//NONSGML v1.0//EN
CALSCALE:GREGORIAN
BEGIN:VEVENT
SUMMARY:Paris Murder Mystery
DTSTART:20260424T150000Z
DTEND:20260424T171500Z
GEO:51.07124;13.75051
LOCATION:Filmtheater Schauburg\, Königsbrücker Straße 55\, 01099 Dresden
DESCRIPTION:
URL;VALUE=URI:http://www.umland.kika-dresden.de/termin1600753.html
DTSTAMP:20260424T073726Z
UID:69eb1db6ca120
END:VEVENT
END:VCALENDAR