BEGIN:VCALENDAR
VERSION:2.0
PRODID:-//hacksw/handcal//NONSGML v1.0//EN
CALSCALE:GREGORIAN
BEGIN:VEVENT
SUMMARY:Klassentreffen - Alles beim Alten
DTSTART:20260424T120000Z
DTEND:20260424T141500Z
GEO:51.07124;13.75051
LOCATION:Filmtheater Schauburg\, Königsbrücker Straße 55\, 01099 Dresden
DESCRIPTION:
URL;VALUE=URI:http://www.umland.kika-dresden.de/termin1600758.html
DTSTAMP:20260424T234120Z
UID:69ebffa054116
END:VEVENT
END:VCALENDAR