BEGIN:VCALENDAR
VERSION:2.0
PRODID:-//hacksw/handcal//NONSGML v1.0//EN
CALSCALE:GREGORIAN
BEGIN:VEVENT
SUMMARY:Klassentreffen - Alles beim Alten
DTSTART:20260425T124500Z
DTEND:20260425T150000Z
GEO:51.07124;13.75051
LOCATION:Filmtheater Schauburg\, Königsbrücker Straße 55\, 01099 Dresden
DESCRIPTION:
URL;VALUE=URI:http://www.umland.kika-dresden.de/termin1600790.html
DTSTAMP:20260424T234105Z
UID:69ebff91528f9
END:VEVENT
END:VCALENDAR