BEGIN:VCALENDAR
VERSION:2.0
PRODID:-//hacksw/handcal//NONSGML v1.0//EN
CALSCALE:GREGORIAN
BEGIN:VEVENT
SUMMARY:Kill Bill: The Whole Bloody Affair
DTSTART:20260426T183000Z
DTEND:20260426T233600Z
GEO:51.07124;13.75051
LOCATION:Filmtheater Schauburg\, Königsbrücker Straße 55\, 01099 Dresden
DESCRIPTION:
URL;VALUE=URI:http://www.umland.kika-dresden.de/termin1600821.html
DTSTAMP:20260425T205735Z
UID:69ed2abf29d54
END:VEVENT
END:VCALENDAR