BEGIN:VCALENDAR
VERSION:2.0
PRODID:-//hacksw/handcal//NONSGML v1.0//EN
CALSCALE:GREGORIAN
BEGIN:VEVENT
SUMMARY:Das Flüstern der Wälder
DTSTART:20260426T123000Z
DTEND:20260426T143300Z
GEO:51.07124;13.75051
LOCATION:Filmtheater Schauburg\, Königsbrücker Straße 55\, 01099 Dresden
DESCRIPTION:
URL;VALUE=URI:http://www.umland.kika-dresden.de/termin1600829.html
DTSTAMP:20260426T014359Z
UID:69ed6ddf5e868
END:VEVENT
END:VCALENDAR